BEGIN:VCALENDAR
VERSION:2.0
PRODID:-//European Foods - ECPv4.9.13//NONSGML v1.0//EN
CALSCALE:GREGORIAN
METHOD:PUBLISH
X-WR-CALNAME:European Foods
X-ORIGINAL-URL:https://europeanfoods.com.au
X-WR-CALDESC:Events for European Foods
BEGIN:VTIMEZONE
TZID:Australia/Perth
BEGIN:STANDARD
TZOFFSETFROM:+0800
TZOFFSETTO:+0800
TZNAME:AWST
DTSTART:20200101T000000
END:STANDARD
END:VTIMEZONE
BEGIN:VEVENT
DTSTART;TZID=Australia/Perth:20200110T110000
DTEND;TZID=Australia/Perth:20200110T130000
DTSTAMP:20200225T132817
CREATED:20191220T031942Z
LAST-MODIFIED:20191220T031959Z
UID:873-1578654000-1578661200@europeanfoods.com.au
SUMMARY:Wine Tasting
DESCRIPTION:European Foods Marketplace Wine Tasting \n
URL:https://europeanfoods.com.au/event/wine-tasting/
LOCATION:European Foods Marketplace\, 90 Frobisher\, Osborne Park\, Western Australia\, 6017\, Australia
ORGANIZER;CN="European%20Foods%20Marketplace":MAILTO:lneal@europeanfoods.com.au
END:VEVENT
END:VCALENDAR